BEGIN:VCALENDAR
VERSION:2.0
PRODID:-//Museerne Helsingør - ECPv6.6.4.2//NONSGML v1.0//EN
CALSCALE:GREGORIAN
METHOD:PUBLISH
X-ORIGINAL-URL:https://helsingormuseer.dk
X-WR-CALDESC:Begivenheder for Museerne Helsingør
REFRESH-INTERVAL;VALUE=DURATION:PT1H
X-Robots-Tag:noindex
X-PUBLISHED-TTL:PT1H
BEGIN:VTIMEZONE
TZID:Europe/Copenhagen
BEGIN:DAYLIGHT
TZOFFSETFROM:+0100
TZOFFSETTO:+0200
TZNAME:CEST
DTSTART:20240331T010000
END:DAYLIGHT
BEGIN:STANDARD
TZOFFSETFROM:+0200
TZOFFSETTO:+0100
TZNAME:CET
DTSTART:20241027T010000
END:STANDARD
END:VTIMEZONE
BEGIN:VEVENT
DTSTART;TZID=Europe/Copenhagen:20241207T110000
DTEND;TZID=Europe/Copenhagen:20241208T150000
DTSTAMP:20260421T171453
CREATED:20241022T090635Z
LAST-MODIFIED:20241104T140618Z
UID:6644-1733569200-1733670000@helsingormuseer.dk
SUMMARY:Julens magi på Skibsklarerergaarden
DESCRIPTION:Oplev Julens Magi på Skibsklarerergaarden!\nKom og fejre julen i det smukke historiske hus på Skibsklarerergaarden! 🎄✨ \nTag dine venner eller familien med til en uforglemmelig juletid fyldt med traditioner\, historier og kreative aktiviteter. Vores historiske hus bliver pyntet op til jul med et smukt juletræ\, nissens fascinerende historie og dekorative røde æbler\, der skaber en magisk atmosfære. \nHøjdepunkter: \n\nSæromvisning om Julens Magi: Hver dag kl. 12.30 kan I deltage i en særomvisning\, hvor vi udforsker julens magi. Lær om nissens oprindelige\, lidt mere snedige side\, og hvordan julens magi blev brugt til at forudsige fremtiden – og ulykker… 🎅🔮\nHistoriske Juletraditioner: Prøv kræfter med traditionelle julehåndværk som at klippe et julehjerte inspireret af H.C. Andersen fra 1860 eller lave en juletrappe til at hænge på juletræet. Perfekt til kreative sjæle og en sjov aktivitet for hele familien! ✂️❤️🎄\nJuleskattejagt for Børnene: Lad børnene hjælpe husnissen med vores spændende Juleskattejagt. En sjov og engagerende aktivitet\, der sikrer smil og latter for de små. 🕵️‍♂️🎁\nKaffe og Kage i Dagligstuen: Nyd en lækker pause med varm kaffe og kage i vores hyggelige dagligstue. En perfekt mulighed for at slappe af\, snakke med vennerne og dele dagens oplevelser. ☕🍰\n\nGratis entré – Vi glæder os til at se jer!
URL:https://helsingormuseer.dk/event/hyggelig-historisk-julestemning/
LOCATION:Skibsklarerergården\, Strandgade 91\, Helsingør\, 3000\, Danmark
CATEGORIES:Familievenlig,For børn,historie,jul,Kulturelle højtider,Madhistorie,Traditioner
ATTACH;FMTTYPE=image/jpeg:/wp-content/uploads/2023/10/Jul-paa-SKG.jpg
END:VEVENT
BEGIN:VEVENT
DTSTART;TZID=Europe/Copenhagen:20241214T110000
DTEND;TZID=Europe/Copenhagen:20241215T150000
DTSTAMP:20260421T171453
CREATED:20241022T115049Z
LAST-MODIFIED:20241104T140648Z
UID:6648-1734174000-1734274800@helsingormuseer.dk
SUMMARY:Julens magi på Skibsklarerergaarden
DESCRIPTION:Oplev Julens Magi på Skibsklarerergaarden!\nKom og fejre julen i det smukke historiske hus på Skibsklarerergaarden! 🎄✨ \nTag dine venner eller familien med til en uforglemmelig juletid fyldt med traditioner\, historier og kreative aktiviteter. Vores historiske hus bliver pyntet op til jul med et smukt juletræ\, nissens fascinerende historie og dekorative røde æbler\, der skaber en magisk atmosfære. \nHøjdepunkter: \n\nSæromvisning om Julens Magi: Hver dag kl. 12.30 kan I deltage i en særomvisning\, hvor vi udforsker julens magi. Lær om nissens oprindelige\, lidt mere snedige side\, og hvordan julens magi blev brugt til at forudsige fremtiden – og ulykker… 🎅🔮\nHistoriske Juletraditioner: Prøv kræfter med traditionelle julehåndværk som at klippe et julehjerte inspireret af H.C. Andersen fra 1860 eller lave en juletrappe til at hænge på juletræet. Perfekt til kreative sjæle og en sjov aktivitet for hele familien! ✂️❤️🎄\nJuleskattejagt for Børnene: Lad børnene hjælpe husnissen med vores spændende Juleskattejagt. En sjov og engagerende aktivitet\, der sikrer smil og latter for de små. 🕵️‍♂️🎁\nKaffe og Kage i Dagligstuen: Nyd en lækker pause med varm kaffe og kage i vores hyggelige dagligstue. En perfekt mulighed for at slappe af\, snakke med vennerne og dele dagens oplevelser. ☕🍰
URL:https://helsingormuseer.dk/event/hyggelig-historisk-julestemning-2/
LOCATION:Skibsklarerergården\, Strandgade 91\, Helsingør\, 3000\, Danmark
CATEGORIES:Familievenlig,For børn,for unge,historie,jul,Kulturelle højtider,Traditioner
ATTACH;FMTTYPE=image/jpeg:/wp-content/uploads/2023/10/Jul-paa-SKG.jpg
END:VEVENT
END:VCALENDAR