BEGIN:VCALENDAR
VERSION:2.0
PRODID:-//Museerne Helsingør - ECPv6.6.4.2//NONSGML v1.0//EN
CALSCALE:GREGORIAN
METHOD:PUBLISH
X-ORIGINAL-URL:https://helsingormuseer.dk
X-WR-CALDESC:Begivenheder for Museerne Helsingør
REFRESH-INTERVAL;VALUE=DURATION:PT1H
X-Robots-Tag:noindex
X-PUBLISHED-TTL:PT1H
BEGIN:VTIMEZONE
TZID:Europe/Copenhagen
BEGIN:DAYLIGHT
TZOFFSETFROM:+0100
TZOFFSETTO:+0200
TZNAME:CEST
DTSTART:20240331T010000
END:DAYLIGHT
BEGIN:STANDARD
TZOFFSETFROM:+0200
TZOFFSETTO:+0100
TZNAME:CET
DTSTART:20241027T010000
END:STANDARD
END:VTIMEZONE
BEGIN:VEVENT
DTSTART;TZID=Europe/Copenhagen:20241004T170000
DTEND;TZID=Europe/Copenhagen:20241004T193000
DTSTAMP:20260421T141940
CREATED:20240910T121203Z
LAST-MODIFIED:20240910T121548Z
UID:6582-1728061200-1728070200@helsingormuseer.dk
SUMMARY:Knejpefestival på Skibsklarerergaarden
DESCRIPTION:Tag med på en smagfuld tidsrejse!\n\nKom med på en anderledes og underholdende omvisning i Skibsklarerergaarden\, hvor du smager på historiens drikkevarer – fra skibsøl til Riga Balsam – mens du hører om Helsingørs farverige og “fordrukne” fortid. I sundtoldstiden havde Helsingør adgang til eksklusive drikke som vin\, importerede øl og brændevin\, og byen har gennem tiden forsynet mange af Danmarks store byer og velhavende adelsmænd med lækre drikkevarer. Byen har også været hjemsted for adskillige bryggerier og brændevinsbrænderier\, der sørgede for at de tørstige sømænd altid havde noget at skåle med!\n\nHvornår: Omvisningerne starter hver halve time fra kl. 17:00 til 19:30.\n\nPris: 80 kr. inkl. 4 smagsprøver.\n\nOBS! Køb din billet på forhånd for at sikre dig plads på det ønskede tidspunkt.\n\nVi glæder os til at se dig til en aften fyldt med smag og historie
URL:https://helsingormuseer.dk/event/knejpefestival-paa-skibsklarerergaarden-2/
LOCATION:Skibsklarerergården\, Strandgade 91\, Helsingør\, 3000\, Danmark
CATEGORIES:Madhistorie,Omvisning på museet
ATTACH;FMTTYPE=image/jpeg:/wp-content/uploads/2024/09/Knejpe-skg-2024.jpg
END:VEVENT
BEGIN:VEVENT
DTSTART;TZID=Europe/Copenhagen:20241024T170000
DTEND;TZID=Europe/Copenhagen:20241024T180000
DTSTAMP:20260421T141940
CREATED:20230309T095146Z
LAST-MODIFIED:20240820T120044Z
UID:5581-1729789200-1729792800@helsingormuseer.dk
SUMMARY:Frøkenen inviterer til te på Skibsklarerergaarden
DESCRIPTION:Du inviteres til te hos husets frøken på Skibsklarergaarden. Hun viser kort rundt i huset og inviterer derefter til te med noget sødt i de fine stuer. \nSkibsklarerergaarden er Helsingørs unikke perle\, der levendegør livet i Helsingør i 1800 tallet.  Opkrævning af Øresundstolden var placering her i Helsingør på Øresunds smalleste sted\, hvilket bidrog til byens udvikling med handel\, velstand og en international befolkning\, men også et stort antal beværtninger\, sømænd og soldater i slåskampe og lette damer ud på de små timer i byens gader. \nDu hører anekdoter om tiden\, med afsæt i borgerskabslivet på Skibsklarerergaarden. I har tid til at hygge jer sammen med de andre gæster mens I drikker te. \nVisitten tager ca. en time\nKl. 17.00- 18.00 \n  \nKøb billet her \nSe mere om Skibsklarerergaarden
URL:https://helsingormuseer.dk/event/froekenen-inviterer-til-te-paa-skibsklarerergaarden-2/
LOCATION:Skibsklarerergården\, Strandgade 91\, Helsingør\, 3000\, Danmark
CATEGORIES:Familievenlig,historie,Omvisning på museet
ATTACH;FMTTYPE=image/png:/wp-content/uploads/2023/03/21_lille.png
ORGANIZER;CN="Museerne Helsing%C3%B8r":MAILTO:museerne@helsingor.dk
END:VEVENT
END:VCALENDAR