BEGIN:VCALENDAR
VERSION:2.0
PRODID:-//Museerne Helsingør - ECPv6.6.4.2//NONSGML v1.0//EN
CALSCALE:GREGORIAN
METHOD:PUBLISH
X-WR-CALNAME:Museerne Helsingør
X-ORIGINAL-URL:https://helsingormuseer.dk
X-WR-CALDESC:Begivenheder for Museerne Helsingør
REFRESH-INTERVAL;VALUE=DURATION:PT1H
X-Robots-Tag:noindex
X-PUBLISHED-TTL:PT1H
BEGIN:VTIMEZONE
TZID:Europe/Copenhagen
BEGIN:DAYLIGHT
TZOFFSETFROM:+0100
TZOFFSETTO:+0200
TZNAME:CEST
DTSTART:20260329T010000
END:DAYLIGHT
BEGIN:STANDARD
TZOFFSETFROM:+0200
TZOFFSETTO:+0100
TZNAME:CET
DTSTART:20261025T010000
END:STANDARD
END:VTIMEZONE
BEGIN:VEVENT
DTSTART;TZID=Europe/Copenhagen:20260330T110000
DTEND;TZID=Europe/Copenhagen:20260401T150000
DTSTAMP:20260425T161651
CREATED:20260120T124731Z
LAST-MODIFIED:20260120T124731Z
UID:7084-1774868400-1775055600@helsingormuseer.dk
SUMMARY:Påske på Værftsmuseet - FUSK på Værftet
DESCRIPTION:I påskeferien åbner vi atter op for vores kreative metalværksted og inviterer indenfor til FUSK på Værftet for hele familien. \nEntré og værksted er gratis. Værkstedet er åbent man-onsdag i skolernes påskeferie fra 11-15. \nBørnene kan lave en nøglering til en ven\, et sejt metal-navneskilt til værelset eller noget helt tredje. \nOgså de voksne kan prøve kræfter med håndværket\, når der skal klippes\, formes og indgraveres bogstaver på metalstykker – du styrer helt selv\, hvilket design du vil lave og tage med hjem. \nVores kyndige museumspersonale står klar til at hjælpe jer med værktøjet\, så I får skabt det helt rigtige design og sammen får prøvet kræfter med en sjov aktivitet\, store som små. \nHvornår: d. 30/3\, 31/3 og 1/4 kl. 11-15 \nHvor: Værftsmuseet\, Allegade 4\, 3000 Helsingør
URL:https://helsingormuseer.dk/event/paaske-paa-vaerftsmuseet-fusk-paa-vaerftet/
LOCATION:Værftsmuseet\, Allegade 4\, Helsingør\, 3000\, Danmark
CATEGORIES:Familievenlig,For børn,for unge,gratis kultur,historie,industrihistorie,Kulturelle højtider,Udstilling
ATTACH;FMTTYPE=image/jpeg:/wp-content/uploads/2026/01/Cover-til-webevents-12.jpg
END:VEVENT
BEGIN:VEVENT
DTSTART;TZID=Europe/Copenhagen:20260330T110000
DTEND;TZID=Europe/Copenhagen:20260401T160000
DTSTAMP:20260425T161651
CREATED:20260120T122829Z
LAST-MODIFIED:20260319T123434Z
UID:7081-1774868400-1775059200@helsingormuseer.dk
SUMMARY:Påskehygge på Skibsklarerergaarden
DESCRIPTION:I påskeferiens hverdage åbner vi op for påskehygge på Skibsklarerergaarden. \nUdforsk det smukke\, historiske hus og nyd en stille stund med Frøkenens kage\, kaffe og te – eller deltag i nogle af aktiviteterne i huset for hele familien. \nAktiviteter i huset: \n\nHver dag kl. 13 er der en gratis særomvisning i huset\, hvor vi dykker ned i husets historie og de særlige traditioner for årstiden\nLav sjove gækkebreve og dekorer farverige æg i husets smukke dagligstue\nBørnene kan tage på en æggejagt og finde æggene i husets skjulte kroge\nI de smukke stuer på 1. etage\, finder du Frøkenens fristelser\, hvor du kan nyde en rolig hyggestund med kaffe\, te og kage\nGå på opdagelse i nye varer i den historiske butique fra 1809 i husets underetage\n\nSom altid er der gratis entré – men en lille pris for evt. tilkøbte drikkevarer og søde sager. \nHvornår: d. 30/3\, 31/3 og 1/4 kl. 11-16 \nHvor: Skibsklarerergaarden på Strandgade 91\, 3000 Helsingør
URL:https://helsingormuseer.dk/event/paaskehygge-paa-skibsklarerergaarden/
LOCATION:Skibsklarerergaarden\, Strandgade 91\, Helsingør\, 3000\, Denmark
CATEGORIES:Familievenlig,For børn,gratis kultur,historie,Kulturelle højtider,Madhistorie,Omvisning på museet,Traditioner
ATTACH;FMTTYPE=image/jpeg:/wp-content/uploads/2026/01/Cover-til-webevents-11.jpg
END:VEVENT
END:VCALENDAR